BEGIN:VCALENDAR
VERSION:2.0
PRODID:-//Maand van de Digitale Fitheid - ECPv6.10.3//NONSGML v1.0//EN
CALSCALE:GREGORIAN
METHOD:PUBLISH
X-WR-CALNAME:Maand van de Digitale Fitheid
X-ORIGINAL-URL:https://maandvandedigitalefitheid.nl
X-WR-CALDESC:Evenementen voor Maand van de Digitale Fitheid
REFRESH-INTERVAL;VALUE=DURATION:PT1H
X-Robots-Tag:noindex
X-PUBLISHED-TTL:PT1H
BEGIN:VTIMEZONE
TZID:UTC
BEGIN:STANDARD
TZOFFSETFROM:+0000
TZOFFSETTO:+0000
TZNAME:UTC
DTSTART:20260101T000000
END:STANDARD
END:VTIMEZONE
BEGIN:VEVENT
DTSTART;TZID=UTC:20260325T100000
DTEND;TZID=UTC:20260325T150000
DTSTAMP:20260424T150003
CREATED:20260227T154300Z
LAST-MODIFIED:20260227T154300Z
UID:6333-1774432800-1774450800@maandvandedigitalefitheid.nl
SUMMARY:Digitaal bijblijven doe je samen
DESCRIPTION:Meet + Greet + Learn in Deventer \nOp 25 maart 2026 opent Digitale Fitheid haar vierde chapter. In de Gasfabriek. Gratis toegankelijk. En met een simpel doel: digitaal bijblijven doe je samen.\n\nGeen solo-race meer. Geen eenzaam googelen om 23:00 uur. Geen frustratie omdat je concurrent blijkbaar alles al snapt. \nMartijn Aslander trapt af. Hij vertelt waarom digitale fitheid essentieel is. En hij legt uit hoe je het aanpakt zonder gek te worden van alle tools en trends.\n\n“Digitaal bijblijven voelt vaak als een solo-race\,” zegt Kristian Esser\, ambassadeur en initiatiefnemer van het Deventer chapter. “Maar waarom zou je? In Deventer pakken we het graag gezamenlijk aan.” \n\nNa de keynote volgen Show & Tell sessies. Professionals uit de regio delen concrete oplossingen. Daarna ontdek je hoe het netwerk werkt. En hoe jij er optimaal gebruik van maakt. \n\nGeen passief luisteren. Actief meedoen.\n\nProgramma:\n\n\n10:00 | Kom binnen\, ontmoet mensen\n10:30 | Welkom van Martijn Aslander en Kristian Esser\n\nWe praten je kort bij over de laatste ontwikkelingen rondom Digitale Fitheid in Nederland én daarbuiten.\n\n\n11:30 | Show & Tell sessies met…\n\nSpecialisten vertellen wat bij hen werkt en waarom.\n\nMark Meinema 👉 tips die je nooit meer gaat vergeten\nKomt nog…\n\n\n\n\n12:25 | Lunch in de Kantine (op eigen kosten)\n13:00 | Meet + Greet + Tell: zo werkt het netwerk\n13:30 | Ask + Tell\n\nPraktisch aan de slag. Schuif aan tafel bij…\n\n\n14:45 | Afronding\n\nWaarom zou je komen?\nSimpel. Omdat digitaal achterop lopen in je eentje geen optie meer is. Omdat de beste oplossingen komen van mensen die dezelfde uitdagingen herkennen. En omdat een netwerk van 4000+ professionals met 15 jaar ervaring je verder helpt dan welke cursus ook. \n\nStop met solo spelen. Begin met samen groeien. \nDeelnemen is gratis\, wel even reserveren!
URL:https://maandvandedigitalefitheid.nl/evenement/digitaal-bijblijven-doe-je-samen/
LOCATION:De Gasfabriek\, Zutphenseweg 6\, Deventer\, 7418 AJ\, Netherlands
END:VEVENT
END:VCALENDAR