BEGIN:VCALENDAR
VERSION:2.0
PRODID:-//Maand van de Digitale Fitheid - ECPv6.10.3//NONSGML v1.0//EN
CALSCALE:GREGORIAN
METHOD:PUBLISH
X-ORIGINAL-URL:https://maandvandedigitalefitheid.nl
X-WR-CALDESC:Evenementen voor Maand van de Digitale Fitheid
REFRESH-INTERVAL;VALUE=DURATION:PT1H
X-Robots-Tag:noindex
X-PUBLISHED-TTL:PT1H
BEGIN:VTIMEZONE
TZID:UTC
BEGIN:STANDARD
TZOFFSETFROM:+0000
TZOFFSETTO:+0000
TZNAME:UTC
DTSTART:20260101T000000
END:STANDARD
END:VTIMEZONE
BEGIN:VEVENT
DTSTART;TZID=UTC:20260306T080000
DTEND;TZID=UTC:20260331T170000
DTSTAMP:20260424T145235
CREATED:20260306T102824Z
LAST-MODIFIED:20260306T102824Z
UID:10000135-1772784000-1774976400@maandvandedigitalefitheid.nl
SUMMARY:AI in practice: Preparing for AI (MOOC)
DESCRIPTION:Online self-paced cursus waarin je leert de implicaties van Artificial Intelligence voor organisaties te herkennen en begrijpen. Ook leer je over het belang van complicance en ethische aspecten. Dit is een MOOC (Massive Open Online Course) waaraan je gratis meedoet via de “audit track”: de video’s\, tekst\, opdrachten en discussie forum\, maar je kan geen certificaat halen. De MOOC loopt na de maand van de digitale fitheid nog door.
URL:https://maandvandedigitalefitheid.nl/evenement/ai-in-practice-preparing-for-ai-mooc/
LOCATION:Digitaal
CATEGORIES:Contentkalender
ATTACH;FMTTYPE=image/jpeg:https://maandvandedigitalefitheid.nl/wp-content/uploads/2026/03/AI-in-practice-course-image.jpg
END:VEVENT
BEGIN:VEVENT
DTSTART;TZID=UTC:20260309T110000
DTEND;TZID=UTC:20260309T120000
DTSTAMP:20260424T145235
CREATED:20260220T110821Z
LAST-MODIFIED:20260220T110821Z
UID:10000116-1773054000-1773057600@maandvandedigitalefitheid.nl
SUMMARY:RADIO Webinar: AI met verstand en een groen geweten
DESCRIPTION:Link volgt na aanmelding \n\n\n\nIn dit webinar bespreekt Rachel Kuijlenburg de vraag hoe AI duurzaam kan worden ingezet en wat de relatie is met toekomstbestendig digitaal vakmanschap. We kijken verder dan de waan van de dag en leren  hoe je als ambtenaar met verstand en een groen geweten duurzaam digitaal de regie pakt. \n\nOver dit webinar\nArtificiële Intelligentie (AI) biedt ongekende kansen voor de publieke sector. Het is een technologische ‘turbo’ waardoor het ambtelijk vakmanschap verandert. Geen tijd verdoen met het verwerken van grote hoeveelheden ongestructureerde data  en ander geneuzel. AI faciliteert meer ruimte voor de inhoud. Wie wil dat niet? Maar de glimmende buitenkant van de AI-belofte heeft ook een schaduwzijde. AI veroorzaakt een ‘infodemie’ door een exponentiele groei van de databerg; met als uitkomst meer datacenters\, meer energie-\, water- en grondstoffenverbruik. \n\n\nVoor wie\nDit webinar is toegankelijk voor iedereen die interesse heeft in Digitale Fitheid. \n\n\nKosten\nEr zijn geen kosten verbonden aan het volgen van het webinar. \n\n\nAanmelden\n\nMeld je aan via het formulier (website Formdesk)
URL:https://maandvandedigitalefitheid.nl/evenement/radio-webinar-ai-met-verstand-en-een-groen-geweten/
LOCATION:Digitaal
END:VEVENT
END:VCALENDAR