BEGIN:VCALENDAR
VERSION:2.0
PRODID:-//Maand van de Digitale Fitheid - ECPv6.10.3//NONSGML v1.0//EN
CALSCALE:GREGORIAN
METHOD:PUBLISH
X-ORIGINAL-URL:https://maandvandedigitalefitheid.nl
X-WR-CALDESC:Evenementen voor Maand van de Digitale Fitheid
REFRESH-INTERVAL;VALUE=DURATION:PT1H
X-Robots-Tag:noindex
X-PUBLISHED-TTL:PT1H
BEGIN:VTIMEZONE
TZID:UTC
BEGIN:STANDARD
TZOFFSETFROM:+0000
TZOFFSETTO:+0000
TZNAME:UTC
DTSTART:20260101T000000
END:STANDARD
END:VTIMEZONE
BEGIN:VEVENT
DTSTART;TZID=UTC:20260306T080000
DTEND;TZID=UTC:20260331T170000
DTSTAMP:20260424T143214
CREATED:20260306T102824Z
LAST-MODIFIED:20260306T102824Z
UID:10000135-1772784000-1774976400@maandvandedigitalefitheid.nl
SUMMARY:AI in practice: Preparing for AI (MOOC)
DESCRIPTION:Online self-paced cursus waarin je leert de implicaties van Artificial Intelligence voor organisaties te herkennen en begrijpen. Ook leer je over het belang van complicance en ethische aspecten. Dit is een MOOC (Massive Open Online Course) waaraan je gratis meedoet via de “audit track”: de video’s\, tekst\, opdrachten en discussie forum\, maar je kan geen certificaat halen. De MOOC loopt na de maand van de digitale fitheid nog door.
URL:https://maandvandedigitalefitheid.nl/evenement/ai-in-practice-preparing-for-ai-mooc/
LOCATION:Digitaal
CATEGORIES:Contentkalender
ATTACH;FMTTYPE=image/jpeg:https://maandvandedigitalefitheid.nl/wp-content/uploads/2026/03/AI-in-practice-course-image.jpg
END:VEVENT
BEGIN:VEVENT
DTSTART;VALUE=DATE:20260317
DTEND;VALUE=DATE:20260318
DTSTAMP:20260424T143214
CREATED:20260330T134234Z
LAST-MODIFIED:20260330T134234Z
UID:10000137-1773705600-1773791999@maandvandedigitalefitheid.nl
SUMMARY:Podcast | Groei zonder extra handen – de digitaliseringsslag
DESCRIPTION:In de Maand van Digitale Fitheid draait het om één vraag: hoe digitaal fit zijn we écht? \nIn deze podcast hoor je hoe Compofloor groeit zonder extra handen\, door digitalisering slim toe te passen. Maar de echte versnelling zit niet in technologie\, maar in gedrag. Zoals ook in de sector steeds duidelijker wordt:“Gedragsverandering op de werkvloer is medebepalend voor het versnellen van digitalisering.” – Gwen Mertosentono van Stichting digiGO \nEen eerlijk verhaal over wat er nodig is om digitalisering werkend te krijgen in de praktijk. Voor organisaties die niet méér tools zoeken\, maar échte beweging.
URL:https://maandvandedigitalefitheid.nl/evenement/podcast-groei-zonder-extra-handen-de-digitaliseringsslag/2026-03-17/
LOCATION:Digitaal
ATTACH;FMTTYPE=image/png:https://maandvandedigitalefitheid.nl/wp-content/uploads/2026/03/Logo_digiGOdigiVaardig_opwitgeel_online_rgb@2x.png
ORGANIZER;CN="digiGO":MAILTO:suyin.timp-gan@digigo.nu
END:VEVENT
BEGIN:VEVENT
DTSTART;TZID=UTC:20260317T110000
DTEND;TZID=UTC:20260317T130000
DTSTAMP:20260424T143214
CREATED:20260220T111652Z
LAST-MODIFIED:20260220T111652Z
UID:10000120-1773745200-1773752400@maandvandedigitalefitheid.nl
SUMMARY:Leesclub over Geen samenwerken zonder samendenken | Maand v.d. Digitale Fitheid
DESCRIPTION:Het invoeren van wendbare organisatievormen blijkt moeilijk en raakt maar zelden als bedoeld in organisaties verankerd. Wil je je verdiepen in hoe dat beter kan? Een goed boek lezen en daarover in gesprek met collega’s? Deze bijeenkomst is voor wie het boek ‘Geen samenwerken zonder samendenken’ van Jan de Visch heeft of gaat lezen en daarover in gesprek wil. \n\n\n\nOver de leesclub\nDe 1e bijeenkomst van een leesclub van en voor  \n\n\nRijksorganisatie ODI en alle andere medewerkers bij de (rijks)overheid vindt plaats tijdens de Maand van de Digitale Fitheid. Lees het boek en ga daarover met jouw collega’s in gesprek. We verdelen de aanmeldingen over groepen van rond de 7 personen. \n\n\nOver het boek\nAuteur Jan de Visch vertelt in dit boek over zelf-organiserende eenheden en pleit voor een organisatie-indeling mede gebaseerd op tijd-horizons. Aan de basis daarvan ligt het promotieonderzoek van  \n\n\nOtto Laske over de doorgaande ontwikkeling van volwassenen en gezamenlijk onderzoek van De Visch en Laske over beter organiseren. Zelforganisatie is daarin een uitgangspunt\, volgens de auteur een noodzakelijkheid in hedendaagse organisaties. \n\n\nVoor wie\nIedereen die werkt bij de (rijks)overheid is van harte welkom. \n\n\nAanmelden\n\nMeld je aan via het formulier (website Formdesk)
URL:https://maandvandedigitalefitheid.nl/evenement/leesclub-over-geen-samenwerken-zonder-samendenken-maand-v-d-digitale-fitheid/
LOCATION:Ministerie van BZK\, turfmarkt 147\, Den Haag\, Netherlands
END:VEVENT
END:VCALENDAR