BEGIN:VCALENDAR
VERSION:2.0
PRODID:-//Maand van de Digitale Fitheid - ECPv6.10.3//NONSGML v1.0//EN
CALSCALE:GREGORIAN
METHOD:PUBLISH
X-WR-CALNAME:Maand van de Digitale Fitheid
X-ORIGINAL-URL:https://maandvandedigitalefitheid.nl
X-WR-CALDESC:Evenementen voor Maand van de Digitale Fitheid
REFRESH-INTERVAL;VALUE=DURATION:PT1H
X-Robots-Tag:noindex
X-PUBLISHED-TTL:PT1H
BEGIN:VTIMEZONE
TZID:UTC
BEGIN:STANDARD
TZOFFSETFROM:+0000
TZOFFSETTO:+0000
TZNAME:UTC
DTSTART:20260101T000000
END:STANDARD
END:VTIMEZONE
BEGIN:VEVENT
DTSTART;TZID=UTC:20260306T080000
DTEND;TZID=UTC:20260331T170000
DTSTAMP:20260424T161704
CREATED:20260306T102824Z
LAST-MODIFIED:20260306T102824Z
UID:10000135-1772784000-1774976400@maandvandedigitalefitheid.nl
SUMMARY:AI in practice: Preparing for AI (MOOC)
DESCRIPTION:Online self-paced cursus waarin je leert de implicaties van Artificial Intelligence voor organisaties te herkennen en begrijpen. Ook leer je over het belang van complicance en ethische aspecten. Dit is een MOOC (Massive Open Online Course) waaraan je gratis meedoet via de “audit track”: de video’s\, tekst\, opdrachten en discussie forum\, maar je kan geen certificaat halen. De MOOC loopt na de maand van de digitale fitheid nog door.
URL:https://maandvandedigitalefitheid.nl/evenement/ai-in-practice-preparing-for-ai-mooc/
LOCATION:Digitaal
CATEGORIES:Contentkalender
ATTACH;FMTTYPE=image/jpeg:https://maandvandedigitalefitheid.nl/wp-content/uploads/2026/03/AI-in-practice-course-image.jpg
END:VEVENT
BEGIN:VEVENT
DTSTART;TZID=UTC:20260326T100000
DTEND;TZID=UTC:20260326T110000
DTSTAMP:20260424T161704
CREATED:20260220T112519Z
LAST-MODIFIED:20260220T112519Z
UID:10000125-1774519200-1774522800@maandvandedigitalefitheid.nl
SUMMARY:RADIO College: AI-geletterdheid | Maand v.d. Digitale Fitheid
DESCRIPTION:Wat is AI-geletterdheid eigenlijk\, en welke kennis en vaardigheden horen daarbij? In dit RADIO College deelt Marian Biekart\, externe promovendus Erasmus Universiteit\, de eerste inzichten uit haar promotieonderzoek en helpt ze orde scheppen in de groeiende spraakverwarring rond AI-geletterdheid. \n\nOver deze colleges\nKom meer te weten over een onderwerp rondom digitalisering met inspirerende sprekers van binnen en buiten de (rijks)overheid tijdens deze RADIO colleges. \n\n\nVoor wie\nVoor medewerkers bij de (rijks)overheid. \n\n\nKosten\nEr zijn voor de deelnemers geen kosten verbonden aan de workshop. \n\n\nAanmelden\n\nMeld je aan via het formulier (website Formdesk)
URL:https://maandvandedigitalefitheid.nl/evenement/radio-college-ai-geletterdheid-maand-v-d-digitale-fitheid/
LOCATION:Digitaal
END:VEVENT
BEGIN:VEVENT
DTSTART;TZID=UTC:20260326T120000
DTEND;TZID=UTC:20260326T133000
DTSTAMP:20260424T161704
CREATED:20260220T112656Z
LAST-MODIFIED:20260220T112656Z
UID:10000126-1774526400-1774531800@maandvandedigitalefitheid.nl
SUMMARY:Wandeling: Van pennenlikkers tot notatikkers | Maand v.d. Digitale Fitheid
DESCRIPTION:In het historisch centrum van Den Haag struikel je over de vele verhalen die context geven aan hoe we vandaag de dag werken bij de overheid. Digitale fitheid begint bij het begrijpen van hoe de kantooromgeving in de loop van de tijd is veranderd. \n\nOver de rondwandeling\nTrek je wandelschoenen en ga mee! Ontdek tijdens deze wandeling de rijke geschiedenis van het Binnenhof en hoe veranderingen in huisvesting en technologische vernieuwing bijdragen aan hoe je vandaag je werkt doet. \n\n\nVoor wie?\nIedereen die werkt bij de (rijks)overheid is van harte welkom. \n\n\nAanmelden\nWil je zelf meewandelen? Dat kan.  \n\nMeld je aan via het aanmeldformulier (via Formdesk)
URL:https://maandvandedigitalefitheid.nl/evenement/wandeling-van-pennenlikkers-tot-notatikkers-maand-v-d-digitale-fitheid-2/
LOCATION:Volgt na aanmelding
END:VEVENT
BEGIN:VEVENT
DTSTART;TZID=UTC:20260330T120000
DTEND;TZID=UTC:20260330T130000
DTSTAMP:20260424T161704
CREATED:20260220T112813Z
LAST-MODIFIED:20260220T112813Z
UID:10000127-1774872000-1774875600@maandvandedigitalefitheid.nl
SUMMARY:RADIO Webinar: AI en menselijk kapitaal | Maand v.d. Digitale Fitheid
DESCRIPTION:Samen met Nanda Piersma en Femke Voorwinden zoomen we in dit webinar uit naar de wereld waarin AI nu impact maakt. \n\nOver dit webinar\nEr is niet te ontsnappen aan nieuws over AI. En vaak horen we dat AI ons erg veel werk uit handen kan nemen. Maar wat doet dat dan met ons mensen? Hoe zit het met onze rol in de creatie van waarde? Onze rol in de samenleving? Onze rol in de organisaties waar we werken? Samen met Nanda Piersma zoomen we uit naar de wereld waarin AI nu impact maakt. Wat verandert er? Wat verandert er niet? Waar moeten we meebewegen en waar moeten we ons standvastig verzetten? En hoe kijkt zij naar de toekomst met AI\, wat geeft ons werk waarde? \n\n\nOver onze gasten\n\n\n\n\nNanda Piersma\, Kroonlid bij de SER sinds 17 juni 2022 en Wetenschappelijk directeur bij Hogeschool van Amsterdam bij Centre of Expertise Applied AI en Lid van de  \n\n\nDomeincommissie Toekomstig verdienvermogen.\nRADIO collega en I-trainee Femke Voorwinden wil met haar werk bij de overheid een klein stukje bijdragen aan de digitalisering van Nederland.\n\n\n\nVoor wie\nDit webinar is toegankelijk voor iedereen die interesse heeft in Digitale Fitheid. \n\n\nKosten\nEr zijn voor de deelnemers geen kosten verbonden aan het webinar. \n\n\nAanmelden\n\nMeld je aan via het formulier (website Formdesk)
URL:https://maandvandedigitalefitheid.nl/evenement/radio-webinar-ai-en-menselijk-kapitaal-maand-v-d-digitale-fitheid/
LOCATION:Digitaal
END:VEVENT
BEGIN:VEVENT
DTSTART;VALUE=DATE:20260331
DTEND;VALUE=DATE:20260401
DTSTAMP:20260424T161704
CREATED:20260330T134234Z
LAST-MODIFIED:20260330T134234Z
UID:10000139-1774915200-1775001599@maandvandedigitalefitheid.nl
SUMMARY:Podcast | Groei zonder extra handen – de digitaliseringsslag
DESCRIPTION:In de Maand van Digitale Fitheid draait het om één vraag: hoe digitaal fit zijn we écht? \nIn deze podcast hoor je hoe Compofloor groeit zonder extra handen\, door digitalisering slim toe te passen. Maar de echte versnelling zit niet in technologie\, maar in gedrag. Zoals ook in de sector steeds duidelijker wordt:“Gedragsverandering op de werkvloer is medebepalend voor het versnellen van digitalisering.” – Gwen Mertosentono van Stichting digiGO \nEen eerlijk verhaal over wat er nodig is om digitalisering werkend te krijgen in de praktijk. Voor organisaties die niet méér tools zoeken\, maar échte beweging.
URL:https://maandvandedigitalefitheid.nl/evenement/podcast-groei-zonder-extra-handen-de-digitaliseringsslag/2026-03-31/
LOCATION:Digitaal
ATTACH;FMTTYPE=image/png:https://maandvandedigitalefitheid.nl/wp-content/uploads/2026/03/Logo_digiGOdigiVaardig_opwitgeel_online_rgb@2x.png
ORGANIZER;CN="digiGO":MAILTO:suyin.timp-gan@digigo.nu
END:VEVENT
BEGIN:VEVENT
DTSTART;TZID=UTC:20260331T133000
DTEND;TZID=UTC:20260331T170000
DTSTAMP:20260424T161704
CREATED:20260304T204705Z
LAST-MODIFIED:20260304T204705Z
UID:10000134-1774963800-1774976400@maandvandedigitalefitheid.nl
SUMMARY:Afsluiting Maand van de Digitale Fitheid 2026
DESCRIPTION:Time flies! Marie Louise Borsje en Martijn Aslander bedachten vijf jaar geleden dat een maandelijkse themamaand een goed idee zou zijn om Nederland digitaal fit te krijgen.  Maar dan wel easycratisch en op de ambtenaar 2.0-manier (zonder veel geld en daarmee samenhangend gedoe) \nDat hebben we geweten zeg! \nDie periode van 5 jaar sluiten we feestelijk af op 31 maart van 13.30-17.00 \nWe zetten een mooi programma in elkaar (dat lukt ons echt altijd prima) en hopen dat jullie erbij zijn. \nAanmelden kan via deze link\, er is niet onbeperkt plek\, dus meld je vooral snel aan! \nhttps://www.eventbrite.nl/e/tickets-afsluiting-maand-van-de-digitale-fitheid-2026-1984269549638?aff=oddtdtcreator
URL:https://maandvandedigitalefitheid.nl/evenement/afsluiting-maand-van-de-digitale-fitheid-2026/
LOCATION:Wonders of Work\, Utrecht
END:VEVENT
END:VCALENDAR