BEGIN:VCALENDAR
VERSION:2.0
PRODID:-//Maand van de Digitale Fitheid - ECPv6.10.3//NONSGML v1.0//EN
CALSCALE:GREGORIAN
METHOD:PUBLISH
X-WR-CALNAME:Maand van de Digitale Fitheid
X-ORIGINAL-URL:https://maandvandedigitalefitheid.nl
X-WR-CALDESC:Evenementen voor Maand van de Digitale Fitheid
REFRESH-INTERVAL;VALUE=DURATION:PT1H
X-Robots-Tag:noindex
X-PUBLISHED-TTL:PT1H
BEGIN:VTIMEZONE
TZID:UTC
BEGIN:STANDARD
TZOFFSETFROM:+0000
TZOFFSETTO:+0000
TZNAME:UTC
DTSTART:20260101T000000
END:STANDARD
END:VTIMEZONE
BEGIN:VEVENT
DTSTART;TZID=UTC:20260305T153000
DTEND;TZID=UTC:20260305T180000
DTSTAMP:20260424T175319
CREATED:20260220T110647Z
LAST-MODIFIED:20260220T110647Z
UID:10000115-1772724600-1772733600@maandvandedigitalefitheid.nl
SUMMARY:Open Donderdag: Een toekomst zonder Big Tech | Maand v.d. Digitale Fitheid
DESCRIPTION:Let op! Legitimatie verplicht \n\n\n\nTijdens deze Open Donderdag neemt Martijn Aslander ons mee in hoe we slimmer\, duurzamer en toekomstbestendig met informatie kunnen omgaan\, zonder afhankelijk te zijn van Big Tech. Laat je meenemen in een andere kijk op informatie en werken met informatie. \n\n\n\nOver deze sessie en de spreker\nHeb jij je ooit wel eens afgevraagd of de manier waarop we informatie opslaan in documenten wel de juiste is? We zijn met z’n allen verslaafd geraakt aan het gemak en de functies van Microsoft. Maar het wordt tijd om het roer om te gooien en te herzien hoe we met informatie omgaan. Tijdens de Open Donderdag op 5 maart geeft  \n\n\nMartijn Aslander\, auteur van ‘Ons werk is stuk’ en oprichter van Digitale Fitheid\, een ándere kijk op informatie en het werken met informatie. Slimmer\, duurzamer en toekomstbestendig. En zonder nog langer afhankelijk te zijn van grote\, Amerikaanse bedrijven. Laat je inspireren om het anders te doen! \n\n\nProgramma\n\n15.30 – 16.00: Inloop\n16.00 – 17.00: Presentatie Martijn Aslander (aanmelden verplicht)\n17.00 – 18.00: Netwerkbijeenkomst (vrije inloop)\n\n\n\nVoor wie\nProfessionals vanuit de hele overheid. \n\n\nKosten\nEr zijn voor de deelnemers geen kosten verbonden aan deze bijeenkomst. \nAanmelden\nDe uitnodiging wordt binnenkort verzonden. Meld je aan voor updates over de Open Donderdagen via formulier (website Spotler).  \nDirect aanmelden
URL:https://maandvandedigitalefitheid.nl/evenement/open-donderdag-een-toekomst-zonder-big-tech-maand-v-d-digitale-fitheid/
END:VEVENT
BEGIN:VEVENT
DTSTART;TZID=UTC:20260302T133000
DTEND;TZID=UTC:20260302T170000
DTSTAMP:20260424T175319
CREATED:20260227T151303Z
LAST-MODIFIED:20260227T151303Z
UID:10000130-1772458200-1772470800@maandvandedigitalefitheid.nl
SUMMARY:Kick off Maand van de Digitale Fitheid 2026
DESCRIPTION:In de maand maart werken we aan onze digitale fitheid. Tijdens dit event trappen we samen af met alle partners\, ambassadeurs en deelnemers. \n\n\n\n\nVijf jaar geleden begonnen Marie-Louise Borsje en Martijn Aslander met de Maand van de Digitale Fitheid. Dat was een mooie reis. De komende maand onderzoeken we hoe de komende vijf jaar eruit gaan zien\, want de missie is nog lang niet volbracht. \nEr is nog te veel ellende op de werkvloer rondom digitalisering. Ook deze maand is er weer genoeg te doen. We hebben een rijke contentkalender en mooie sessies. \nOp 2 maart trappen we af bij Wonders of Work (voorheen Seats2Meet Utrecht) naast Utrecht Centraal. Inloop is om 13.30 uur en we starten om 14.00 uur. We maken weer een mooi programma\, begeleid door Lars Sørensen. Dit jaar staat in het teken van datasoevereiniteit. Rond 16.00 uur sluiten we af met een borrel. Een mooie gelegenheid om elkaar te ontmoeten en inzichten en ervaringen uit te wisselen. \nDe maand wordt mogelijk gemaakt door de RijksAcademie voor Digitalisering en Informatisering Overheid (RADIO) en stichting Digitale Fitheid. Ook dit jaar wordt de maand gesponsord door de VFB Academie\, dé pioniers op het gebied van functioneel beheer in Nederland. \nKom je langs en neem je jouw leukste collega’s mee? Toegang is gratis\, reserveer wel even je plek! \nMeer informatie over de Maand van de Digitale Fitheid vind je hier.
URL:https://maandvandedigitalefitheid.nl/evenement/kick-off-maand-van-de-digitale-fitheid-2026/
LOCATION:Wonders of Work\, Utrecht
END:VEVENT
END:VCALENDAR